BEGIN:VCALENDAR
VERSION:2.0
PRODID:-//Eventin//Event Calendar//EN
CALSCALE:GREGORIAN
METHOD:PUBLISH
BEGIN:VEVENT
UID:865dc85bc029c9b424cc00336f64945e@www.saracca.co.za
SUMMARY:SARACCA WESTERN CAPE BRANCH MEETING
DESCRIPTION:
LOCATION:Mowbray UCT Protea Hotel
DTSTAMP:20260422T095715Z
DTSTART:20260825T150000Z
DTEND:20260825T170000Z
END:VEVENT
END:VCALENDAR
